BEGIN:VCALENDAR
VERSION:2.0
PRODID:-//Real Italian | Dominick&#039;s - ECPv6.15.20//NONSGML v1.0//EN
CALSCALE:GREGORIAN
METHOD:PUBLISH
X-WR-CALNAME:Real Italian | Dominick&#039;s
X-ORIGINAL-URL:https://dominicksrealitalian.com
X-WR-CALDESC:Events for Real Italian | Dominick&#039;s
REFRESH-INTERVAL;VALUE=DURATION:PT1H
X-Robots-Tag:noindex
X-PUBLISHED-TTL:PT1H
BEGIN:VTIMEZONE
TZID:America/Phoenix
BEGIN:STANDARD
TZOFFSETFROM:-0700
TZOFFSETTO:-0700
TZNAME:MST
DTSTART:20250101T000000
END:STANDARD
END:VTIMEZONE
BEGIN:VEVENT
DTSTART;TZID=America/Phoenix:20260424T170000
DTEND;TZID=America/Phoenix:20260424T200000
DTSTAMP:20260420T040601
CREATED:20260319T013656Z
LAST-MODIFIED:20260319T013656Z
UID:4093-1777050000-1777060800@dominicksrealitalian.com
SUMMARY:Jack Bishop
DESCRIPTION:
URL:https://dominicksrealitalian.com/event/jack-bishop-3/
END:VEVENT
BEGIN:VEVENT
DTSTART;TZID=America/Phoenix:20260425T170000
DTEND;TZID=America/Phoenix:20260425T200000
DTSTAMP:20260420T040601
CREATED:20260319T013815Z
LAST-MODIFIED:20260319T013815Z
UID:4095-1777136400-1777147200@dominicksrealitalian.com
SUMMARY:Miguel Melgoza
DESCRIPTION:
URL:https://dominicksrealitalian.com/event/miguel-melgoza-4/
END:VEVENT
BEGIN:VEVENT
DTSTART;TZID=America/Phoenix:20260501T180000
DTEND;TZID=America/Phoenix:20260501T200000
DTSTAMP:20260420T040601
CREATED:20260410T232701Z
LAST-MODIFIED:20260410T232701Z
UID:4128-1777658400-1777665600@dominicksrealitalian.com
SUMMARY:Brook Sample
DESCRIPTION:
URL:https://dominicksrealitalian.com/event/brook-sample-4/
END:VEVENT
BEGIN:VEVENT
DTSTART;TZID=America/Phoenix:20260502T180000
DTEND;TZID=America/Phoenix:20260502T200000
DTSTAMP:20260420T040601
CREATED:20260410T232743Z
LAST-MODIFIED:20260410T232743Z
UID:4130-1777744800-1777752000@dominicksrealitalian.com
SUMMARY:Carlos Burgos
DESCRIPTION:
URL:https://dominicksrealitalian.com/event/carlos-burgos-4/
END:VEVENT
BEGIN:VEVENT
DTSTART;TZID=America/Phoenix:20260508T180000
DTEND;TZID=America/Phoenix:20260508T200000
DTSTAMP:20260420T040601
CREATED:20260410T232840Z
LAST-MODIFIED:20260410T232840Z
UID:4132-1778263200-1778270400@dominicksrealitalian.com
SUMMARY:Eduardo Costa
DESCRIPTION:
URL:https://dominicksrealitalian.com/event/eduardo-costa-6/
END:VEVENT
BEGIN:VEVENT
DTSTART;TZID=America/Phoenix:20260509T180000
DTEND;TZID=America/Phoenix:20260509T200000
DTSTAMP:20260420T040601
CREATED:20260410T232918Z
LAST-MODIFIED:20260410T232918Z
UID:4134-1778349600-1778356800@dominicksrealitalian.com
SUMMARY:Joe Bourne
DESCRIPTION:
URL:https://dominicksrealitalian.com/event/joe-bourne-6/
END:VEVENT
BEGIN:VEVENT
DTSTART;TZID=America/Phoenix:20260515T180000
DTEND;TZID=America/Phoenix:20260515T200000
DTSTAMP:20260420T040601
CREATED:20260410T232947Z
LAST-MODIFIED:20260410T232947Z
UID:4136-1778868000-1778875200@dominicksrealitalian.com
SUMMARY:Miguel Melgoza
DESCRIPTION:
URL:https://dominicksrealitalian.com/event/miguel-melgoza-5/
END:VEVENT
BEGIN:VEVENT
DTSTART;TZID=America/Phoenix:20260516T180000
DTEND;TZID=America/Phoenix:20260516T200000
DTSTAMP:20260420T040601
CREATED:20260410T233036Z
LAST-MODIFIED:20260410T233036Z
UID:4138-1778954400-1778961600@dominicksrealitalian.com
SUMMARY:Eduardo Costa
DESCRIPTION:
URL:https://dominicksrealitalian.com/event/eduardo-costa-7/
END:VEVENT
BEGIN:VEVENT
DTSTART;TZID=America/Phoenix:20260522T180000
DTEND;TZID=America/Phoenix:20260522T200000
DTSTAMP:20260420T040601
CREATED:20260410T233210Z
LAST-MODIFIED:20260410T233210Z
UID:4141-1779472800-1779480000@dominicksrealitalian.com
SUMMARY:Jack Bishop
DESCRIPTION:
URL:https://dominicksrealitalian.com/event/jack-bishop-4/
END:VEVENT
BEGIN:VEVENT
DTSTART;TZID=America/Phoenix:20260523T180000
DTEND;TZID=America/Phoenix:20260523T200000
DTSTAMP:20260420T040601
CREATED:20260410T233246Z
LAST-MODIFIED:20260410T233246Z
UID:4143-1779559200-1779566400@dominicksrealitalian.com
SUMMARY:Carlos Burgos
DESCRIPTION:
URL:https://dominicksrealitalian.com/event/carlos-burgos-5/
END:VEVENT
BEGIN:VEVENT
DTSTART;TZID=America/Phoenix:20260529T180000
DTEND;TZID=America/Phoenix:20260529T200000
DTSTAMP:20260420T040601
CREATED:20260410T233450Z
LAST-MODIFIED:20260410T233450Z
UID:4145-1780077600-1780084800@dominicksrealitalian.com
SUMMARY:Brook Sample
DESCRIPTION:
URL:https://dominicksrealitalian.com/event/brook-sample-5/
END:VEVENT
BEGIN:VEVENT
DTSTART;TZID=America/Phoenix:20260530T180000
DTEND;TZID=America/Phoenix:20260530T200000
DTSTAMP:20260420T040601
CREATED:20260410T233533Z
LAST-MODIFIED:20260410T233533Z
UID:4147-1780164000-1780171200@dominicksrealitalian.com
SUMMARY:Eduardo Costa
DESCRIPTION:
URL:https://dominicksrealitalian.com/event/eduardo-costa-8/
END:VEVENT
END:VCALENDAR